BEGIN:VCALENDAR
VERSION:2.0
CALSCALE:GREGORIAN
BEGIN:VEVENT
SUMMARY:Morning Group Hatha
DTSTART;TZID=America/Toronto:20250828T091000
DTEND;TZID=America/Toronto:20250828T100000
LOCATION:New Heights Fitness
DESCRIPTION: Join this weekly Thursday morning 45-minute hatha yoga class at New Heights Fitness in Hanover! We&amp;#039;ll integrate breathing techniques and strengthening movement to align body, mind, and spirit | Sign up for a membership or pass at newheightsfitness.ca
STATUS:CONFIRMED
SEQUENCE:0
END:VEVENT
END:VCALENDAR