BEGIN:VCALENDAR
VERSION:2.0
CALSCALE:GREGORIAN
BEGIN:VEVENT
SUMMARY:Beginner Yoga Course
DTSTART;TZID=Australia/Perth:20231228T180000
DTEND;TZID=Australia/Perth:20231228T191500
LOCATION:
DESCRIPTION: 
STATUS:CONFIRMED
SEQUENCE:0
END:VEVENT
END:VCALENDAR