BEGIN:VCALENDAR
VERSION:2.0
CALSCALE:GREGORIAN
BEGIN:VEVENT
SUMMARY:Chair Yoga for Seniors
DTSTART;TZID=Australia/Perth:20240701T093000
DTEND;TZID=Australia/Perth:20240701T101500
LOCATION:Sacred Official, 3/16 Comserv Loop, Ellenbrook 6069 WA
DESCRIPTION: Join our 45-minute chair yoga classes for seniors 55+ Improve flexibility, strength, and balance with gentle, seated, and standing postures. Perfect for all fitness levels. Relax and rejuvenate with us! 🌿✨
STATUS:CONFIRMED
SEQUENCE:0
END:VEVENT
END:VCALENDAR