BEGIN:VCALENDAR
VERSION:2.0
CALSCALE:GREGORIAN
BEGIN:VEVENT
SUMMARY:Ashtanga Basic - Chantal (Studio)
DTSTART;TZID=Europe/Brussels:20221123T071500
DTEND;TZID=Europe/Brussels:20221123T083000
LOCATION:Sluisstraat 12, 3000 Leuven
DESCRIPTION: Ashtanga basic gradually builds up an Ashtanga yoga practice. The effect on yoga on body and mind and the benefits of a consistent practice can be experienced. It respects individual needs for adjustments so that it is also ideal for experienced Ashtangis who want to develop a personalized practice
STATUS:CONFIRMED
SEQUENCE:0
END:VEVENT
END:VCALENDAR