BEGIN:VCALENDAR
VERSION:2.0
CALSCALE:GREGORIAN
BEGIN:VEVENT
SUMMARY:SPECIAL CLASS Handstand - Katrien (STUDIO)
DTSTART;TZID=Europe/Brussels:20230622T190000
DTEND;TZID=Europe/Brussels:20230622T200000
LOCATION:sluisstraat 12, 3000 Leuven
DESCRIPTION: Four days of handstand, whoop whoop! During 4 weekly classes, your handstand practice will get an enormous boost. Each session will be one hour in which the focus will be slightly different, but all with the goal to make you feel more confident on your hands. You don’t need to have prior handstand experience, but being able to hold some seconds on your hands against a wall is a plus.  
The classes can be followed separately (don’t have to follow all 4), but it’s of course more fun to join for the entire month! 
 
Vier dagen handstand, whoop whoop! Gedurende 4 wekelijkse lessen zal je handstand practice een enorme boost krijgen. Tijdens elke sessie van een uur focussen we op een ander aspect, maar telkens met het doel om je meer zelfzeker op je handen te doen voelen! Je hebt geen handstand ervaring nodig, maar enkele seconden op je handen kunnen staan tegen een muur is een plus.  
De lessen kunnen apart gevolgd worden, maar het is natuurlijk leuker om de hele maand te komen! 
 
Les 1 (8 juni): Basics  
Les 2 (15 juni): How to get out + straddle handstand 
Les 3 (22 juni): Tuck handstand 
Les 4 (29 juni): How to get in
STATUS:CONFIRMED
SEQUENCE:0
END:VEVENT
END:VCALENDAR