BEGIN:VCALENDAR
VERSION:2.0
CALSCALE:GREGORIAN
BEGIN:VEVENT
SUMMARY:Special Class Fascial Yoga FOCUS SPINE - Chantal (Studio)
DTSTART;TZID=Europe/Brussels:20230504T190000
DTEND;TZID=Europe/Brussels:20230504T200000
LOCATION:sluisstraat 12, 3000 Leuven
DESCRIPTION: Facial Yoga
FOCUS SPINE
Yoga has many health benefits both, mental and physical. Physical poses are designed to increase strength and flexibility leading to a beautiful harmony. For the perfect balance of both we need to train the connective tissues, mainly the fascial tissue preventing overstretching or stiffness. It stabilizes body structures, helps with joint stability and enables all elements to work together.

Two classes focus on activating fascial tissues and enhancing elasticity by integrating yoga and non-yoga poses will be given, each with a different focus:
4 May - focus spine
25 May - focus hips
Both classes are suitable for beginners as well as advanced yogi*nis and can also be booked separately.
STATUS:CONFIRMED
SEQUENCE:0
END:VEVENT
END:VCALENDAR