BEGIN:VCALENDAR
VERSION:2.0
CALSCALE:GREGORIAN
BEGIN:VEVENT
SUMMARY:FREE CLASS Pranayama with Chantal (Open day Saja Loft Herent)
DTSTART;TZID=Europe/Brussels:20230916T164500
DTEND;TZID=Europe/Brussels:20230916T173000
LOCATION:Schoonzichtlaan 43, 3020 Herent
DESCRIPTION: Pranayama is the fourth of the eight limbs of the yoga way and found in vaious sanskrit texts even before the asana limb.
It means the control of breath and in this short introductiory class we will experience four different techniques and their effects on body and mind. 
Kumbhaka: holding the breath with empty and full lungs
Sama nadi: uninostril breath
Bhastrika: rapid and forceful breaths
Kevalakumbhaka: suspension of the breath

*OPEN HOUSE WITH FREE SPECIAL CLASSES ON SEPTEMBER 16 &amp;amp; 17!
Saja Yoga Loft Herent is our second location where Yoga courses, Workshops, Special Yoga Weekends and Special series of classes take place.

It is a place outside the city, in the middle of an oasis of peace.
Here you can go for our special Yoga or consciousness experiences in addition to our classic range of classes at Saja Yoga Studio in the heart of Leuven.
In our offer we work closely with other professional organizations or teachers.
STATUS:CONFIRMED
SEQUENCE:0
END:VEVENT
END:VCALENDAR