BEGIN:VCALENDAR
VERSION:2.0
CALSCALE:GREGORIAN
BEGIN:VEVENT
SUMMARY:FREE CLASS Intro to arm balance with Rowan (Saja Loft Herent)
DTSTART;TZID=Europe/Brussels:20230917T114500
DTEND;TZID=Europe/Brussels:20230917T123000
LOCATION:Schoonzichtlaan 43, 3020 Herent
DESCRIPTION: In this introductory arm balance class Rowan will take you on a fun experience where you&#039;ll experiment with a few different arm balances. We will deconstruct the poses, and dedicate time to enhancing our awareness while holding each posture.

*OPEN HOUSE WITH FREE SPECIAL CLASSES ON SEPTEMBER 16 &amp;amp; 17!
Saja Yoga Loft Herent is our second location where Yoga courses, Workshops, Special Yoga Weekends and Special series of classes take place.

It is a place outside the city, in the middle of an oasis of peace.
Here you can go for our special Yoga or consciousness experiences in addition to our classic range of classes at Saja Yoga Studio in the heart of Leuven.
In our offer we work closely with other professional organizations or teachers.
STATUS:CONFIRMED
SEQUENCE:0
END:VEVENT
END:VCALENDAR