BEGIN:VCALENDAR
VERSION:2.0
CALSCALE:GREGORIAN
BEGIN:VEVENT
SUMMARY:Yin - Frances (Online)
DTSTART;TZID=Europe/Brussels:20230215T201500
DTEND;TZID=Europe/Brussels:20230215T213000
LOCATION:Zoom
DESCRIPTION: 
STATUS:CONFIRMED
SEQUENCE:0
END:VEVENT
END:VCALENDAR