BEGIN:VCALENDAR
VERSION:2.0
CALSCALE:GREGORIAN
BEGIN:VEVENT
SUMMARY:CHRISTMAS BREAK
DTSTART;TZID=Europe/London:20251223T130000
DTEND;TZID=Europe/London:20251223T140000
LOCATION:Christchurch Centre, South Nutfield
DESCRIPTION: A gorgeous gentle yoga class especially suitable for anyone practicing with an illness or injury. Including breathwork, movement and deep relaxation, this class is open to all, friendly, warm and very relaxing.
STATUS:CONFIRMED
SEQUENCE:0
END:VEVENT
END:VCALENDAR