BEGIN:VCALENDAR
VERSION:2.0
CALSCALE:GREGORIAN
BEGIN:VEVENT
SUMMARY:Mercoledì|Ayur~Yoga therapy Profondità e Riflessione🌸
DTSTART;TZID=Europe/Rome:20250219T190000
DTEND;TZID=Europe/Rome:20250219T200000
LOCATION:
DESCRIPTION: Favorire allungamenti profondi e un&#039;introspezione meditativa.
STATUS:CONFIRMED
SEQUENCE:0
END:VEVENT
END:VCALENDAR