BEGIN:VCALENDAR
VERSION:2.0
CALSCALE:GREGORIAN
BEGIN:VEVENT
SUMMARY:Venerdì|Ayur~Yoga therapy Fluire con gli elementi 🌸
DTSTART;TZID=Europe/Rome:20250214T190000
DTEND;TZID=Europe/Rome:20250214T200000
LOCATION:
DESCRIPTION: Pratica con Me✨
STATUS:CONFIRMED
SEQUENCE:0
END:VEVENT
END:VCALENDAR