BEGIN:VCALENDAR
VERSION:2.0
CALSCALE:GREGORIAN
BEGIN:VEVENT
SUMMARY:Mercoledì | Vinyasa Yoga | Equilibrio e Focus ~🌼
DTSTART;TZID=Europe/Rome:20251015T190000
DTEND;TZID=Europe/Rome:20251015T200000
LOCATION:Via Arcinazzo romano 48
DESCRIPTION: 🌿🪔
Equilibrio e concentrazione attraverso posizioni impegnative
STATUS:CONFIRMED
SEQUENCE:0
END:VEVENT
END:VCALENDAR