BEGIN:VCALENDAR
VERSION:2.0
CALSCALE:GREGORIAN
BEGIN:VEVENT
SUMMARY:Giovedi: 19:00-20:00 | Vinyasa Flow ~ 🖇️🛞 Forza Dinamica
DTSTART;TZID=Europe/Rome:20251113T190000
DTEND;TZID=Europe/Rome:20251113T200000
LOCATION:
DESCRIPTION: Sequenze fluide con enfasi su forza e resistenza. 🛞💫🖇️
STATUS:CONFIRMED
SEQUENCE:0
END:VEVENT
END:VCALENDAR