BEGIN:VCALENDAR
VERSION:2.0
CALSCALE:GREGORIAN
BEGIN:VEVENT
SUMMARY:Hatha yoga mild
DTSTART;TZID=Europe/Amsterdam:20260413T133000
DTEND;TZID=Europe/Amsterdam:20260413T143000
LOCATION:Studio
DESCRIPTION: Met aandacht bewegen en ontspannen op een kalm en rustig tempo op basis van gevarieerde yogastijlen.
STATUS:CONFIRMED
SEQUENCE:0
END:VEVENT
END:VCALENDAR