BEGIN:VCALENDAR
VERSION:2.0
CALSCALE:GREGORIAN
BEGIN:VEVENT
SUMMARY:Hatha yoga mix
DTSTART;TZID=Europe/Amsterdam:20260424T090000
DTEND;TZID=Europe/Amsterdam:20260424T100000
LOCATION:Studio
DESCRIPTION: Een mix van gevarieerde yogastijlen, van meditatief tot licht krachtig en actief. Meestal met wat flow (de oefeningen gaan vloeiend in elkaar over, synchroon met de adem).
STATUS:CONFIRMED
SEQUENCE:0
END:VEVENT
END:VCALENDAR