BEGIN:VCALENDAR
VERSION:2.0
CALSCALE:GREGORIAN
BEGIN:VEVENT
SUMMARY:Yin yoga
DTSTART;TZID=Europe/Amsterdam:20260123T101500
DTEND;TZID=Europe/Amsterdam:20260123T111500
LOCATION:Studio
DESCRIPTION: Meditatief zittend en liggend waarin je stilte vindt en oplaadt. Je doet dit met aandacht en overgave. Het werkt dieper door in je bindweefsel waardoor je soepeler wordt.
STATUS:CONFIRMED
SEQUENCE:0
END:VEVENT
END:VCALENDAR