BEGIN:VCALENDAR
VERSION:2.0
CALSCALE:GREGORIAN
BEGIN:VEVENT
SUMMARY:1-op-1 Coaching
DTSTART;TZID=Europe/Amsterdam:20260330T100000
DTEND;TZID=Europe/Amsterdam:20260330T113000
LOCATION:in Amerongen of Online (je krijgt een persoonlijke link)
DESCRIPTION: 1 op 1 coachingsessie van 75-90 min. Als we het online doen: Zorg dat je een privé plekje thuis hebt, waar je niet gestoord kunt worden.
STATUS:CONFIRMED
SEQUENCE:0
END:VEVENT
END:VCALENDAR