BEGIN:VCALENDAR
VERSION:2.0
CALSCALE:GREGORIAN
BEGIN:VEVENT
SUMMARY:Reformer Pilates • Group Class
DTSTART;TZID=Europe/Amsterdam:20260218T183500
DTEND;TZID=Europe/Amsterdam:20260218T193500
LOCATION:Leeuwarderstraatweg 56B
DESCRIPTION: 
STATUS:CONFIRMED
SEQUENCE:0
END:VEVENT
END:VCALENDAR