BEGIN:VCALENDAR
VERSION:2.0
CALSCALE:GREGORIAN
BEGIN:VEVENT
SUMMARY:Candlelight Yin🕯️
DTSTART;TZID=Europe/Amsterdam:20251209T183500
DTEND;TZID=Europe/Amsterdam:20251209T193500
LOCATION:Leeuwarderstraatweg 54
DESCRIPTION: 
STATUS:CONFIRMED
SEQUENCE:0
END:VEVENT
END:VCALENDAR