BEGIN:VCALENDAR
VERSION:2.0
CALSCALE:GREGORIAN
BEGIN:VEVENT
SUMMARY:Yin yoga - Unwrapping The Heart💝
DTSTART;TZID=Europe/Amsterdam:20251218T183500
DTEND;TZID=Europe/Amsterdam:20251218T193500
LOCATION:Leeuwarderstraatweg 54
DESCRIPTION: 
STATUS:CONFIRMED
SEQUENCE:0
END:VEVENT
END:VCALENDAR