BEGIN:VCALENDAR
VERSION:2.0
CALSCALE:GREGORIAN
BEGIN:VEVENT
SUMMARY:🥂 Pilates Mat • Core Countdown to 2026
DTSTART;TZID=Europe/Amsterdam:20251229T160000
DTEND;TZID=Europe/Amsterdam:20251229T165500
LOCATION:Leeuwarderstraatweg 54
DESCRIPTION: Tijdens deze Mat Pialtes-les geven we je core een stevige boost.
STATUS:CONFIRMED
SEQUENCE:0
END:VEVENT
END:VCALENDAR