BEGIN:VCALENDAR
VERSION:2.0
CALSCALE:GREGORIAN
BEGIN:VEVENT
SUMMARY:Sunday Morning Yoga Flow
DTSTART;TZID=Europe/Amsterdam:20220327T100000
DTEND;TZID=Europe/Amsterdam:20220327T120000
LOCATION:Heerengracht 29, Meppel
DESCRIPTION: Elke laatste Zondag van de Maand ben je van harte welkom voor een verdiepende Yoga Flow XL workshop. Deze workshop bestaat uit een extra lange yogales, waarin we een stukje dieper gaan dan in de reguliere yogales. We zullen de Yoga Flows verdiepen met mantra’s, handmudra’s en diepere Yoga Poses.

Na de workshop is er gezond lekkers en thee.
STATUS:CONFIRMED
SEQUENCE:0
END:VEVENT
END:VCALENDAR