BEGIN:VCALENDAR
VERSION:2.0
CALSCALE:GREGORIAN
BEGIN:VEVENT
SUMMARY:Yoga &amp; Movement Flow
DTSTART;TZID=Europe/Amsterdam:20210706T184500
DTEND;TZID=Europe/Amsterdam:20210706T200000
LOCATION:Studio Heerengracht 29
DESCRIPTION: 
STATUS:CONFIRMED
SEQUENCE:0
END:VEVENT
END:VCALENDAR