BEGIN:VCALENDAR
VERSION:2.0
CALSCALE:GREGORIAN
BEGIN:VEVENT
SUMMARY:Yoga Flow
DTSTART;TZID=Europe/Amsterdam:20210929T201500
DTEND;TZID=Europe/Amsterdam:20210929T213000
LOCATION:Studio Heerengracht 29
DESCRIPTION: 
STATUS:CONFIRMED
SEQUENCE:0
END:VEVENT
END:VCALENDAR