BEGIN:VCALENDAR
VERSION:2.0
CALSCALE:GREGORIAN
BEGIN:VEVENT
SUMMARY:Weekend Flow
DTSTART;TZID=Europe/Paris:20250426T103000
DTEND;TZID=Europe/Paris:20250426T114500
LOCATION:5 Pl. de la Palle, 40660 Moliets-et-Maa
DESCRIPTION: 
STATUS:CONFIRMED
SEQUENCE:0
END:VEVENT
END:VCALENDAR