BEGIN:VCALENDAR
VERSION:2.0
CALSCALE:GREGORIAN
BEGIN:VEVENT
SUMMARY:Morning Flow (option plage)
DTSTART;TZID=Europe/Paris:20250918T083000
DTEND;TZID=Europe/Paris:20250918T093000
LOCATION:5 Pl. de la Palle, 40660 Moliets-et-Maa
DESCRIPTION: Le vinyasa flow est une pratique énergisante qui allie postures (asana) et mouvements au rythme du souffle. C’est une quête d’équilibre, de fluidité et de force vers un état méditatif. Notre séance est une exploration corporelle et contemplative avec les outils de yoga, accessible à tous.
STATUS:CONFIRMED
SEQUENCE:0
END:VEVENT
END:VCALENDAR