BEGIN:VCALENDAR
VERSION:2.0
CALSCALE:GREGORIAN
BEGIN:VEVENT
SUMMARY:Morning Flow (EN)
DTSTART;TZID=Europe/Paris:20250707T093000
DTEND;TZID=Europe/Paris:20250707T103000
LOCATION:5 Pl. de la Palle, 40660 Moliets-et-Maa
DESCRIPTION: Morning Flow is a gentle yet energizing yoga class that helps you wake up your body and mind. Through movements and postures linked with your breath, you’ll build strength, find balance, and ease into your day with more calm and clarity. This session is open to everyone – no matter your experience – and offers a space to move, breathe, and feel good.
STATUS:CONFIRMED
SEQUENCE:0
END:VEVENT
END:VCALENDAR