BEGIN:VCALENDAR
VERSION:2.0
CALSCALE:GREGORIAN
BEGIN:VEVENT
SUMMARY:Vinyasa Foundations
DTSTART;TZID=Europe/Paris:20251128T090000
DTEND;TZID=Europe/Paris:20251128T101500
LOCATION:5 Pl. de la Palle, 40660 Moliets-et-Maa
DESCRIPTION: Un cours pour (re)découvrir les bases du Vinyasa Yoga : alignement, respiration et transitions fluides entre les postures.
Nous prenons le temps d’explorer chaque mouvement en conscience, pour construire une pratique stable, sûre et équilibrée.
---
A class to (re)discover the fundamentals of Vinyasa Yoga: alignment, breath, and smooth transitions between poses.
We take time to explore each movement mindfully, building a strong, safe, and balanced practice.
STATUS:CONFIRMED
SEQUENCE:0
END:VEVENT
END:VCALENDAR