BEGIN:VCALENDAR
VERSION:2.0
CALSCALE:GREGORIAN
BEGIN:VEVENT
SUMMARY:Atelier: Inversions
DTSTART;TZID=Europe/Paris:20251120T183000
DTEND;TZID=Europe/Paris:20251120T200000
LOCATION:5 Pl. de la Palle, 40660 Moliets-et-Maa
DESCRIPTION: Un atelier pour explorer les postures inversées dans la sécurité, la conscience et la joie du mouvement.
Nous aborderons différentes inversions (sur les épaules, la tête, les mains…) avec des variations accessibles à tous.
L’objectif : développer la force, la stabilité et la confiance, tout en s’amusant et en sortant de sa zone de confort. 🌿
---
A workshop to explore inversions in a safe, mindful and playful way.
We’ll work on different variations — from shoulderstands to headstands and hand balances — accessible for all levels.
The focus is on building strength, stability and confidence while having fun and stepping outside your comfort zone. 🌿
STATUS:CONFIRMED
SEQUENCE:0
END:VEVENT
END:VCALENDAR