BEGIN:VCALENDAR
VERSION:2.0
CALSCALE:GREGORIAN
BEGIN:VEVENT
SUMMARY:Ayurvedic Massage
DTSTART;TZID=Australia/Brisbane:20190725T100000
DTEND;TZID=Australia/Brisbane:20190725T113000
LOCATION:Temple Retreat
DESCRIPTION: *Please call or message Tanya on 0412 231 070 if booking a massage for same day or next day to ensure access.

You will enjoy a deeply relaxing massage that uses warm medicated oil to bring nourishment to the cells, tissues and energy channels, as well as bringing profound relaxation to the muscles, mind and nervous system.
STATUS:CONFIRMED
SEQUENCE:0
END:VEVENT
END:VCALENDAR