BEGIN:VCALENDAR
VERSION:2.0
CALSCALE:GREGORIAN
BEGIN:VEVENT
SUMMARY:Yoga Brunch: Equilibre et Concentration
DTSTART;TZID=Europe/Zurich:20250329T090000
DTEND;TZID=Europe/Zurich:20250329T130000
LOCATION:Maracon, S.E.E.D centre de bien-être
DESCRIPTION: L&#039;objectif de cette session de 2h est de développer la stabilité mentale et physique en travaillant sur l&#039;équilibre. 
Les postures travaillées aident à améliorer la concentration et la coordination.
Ces postures d&#039;équilibre demandent une attention particulière sur la respiration et l&#039;ancrage, ce qui permet non seulement de renforcer les muscles stabilisateurs, mais aussi de cultiver une présence attentive à l&#039;instant présent. 
En pratiquant régulièrement ces postures, on observe une amélioration notable de la capacité à se concentrer et à maintenir un équilibre dans la vie quotidienne. 
De plus, ces postures favorisent une meilleure posture corporelle et contribuent à une sensation générale de calme et de bien-être.
Quelques Postures travaillée :
Vrksasana (Posture de l&#039;Arbre)
Garudasana (Posture de l&#039;Aigle)
Natarajasana (Posture du Danseur)
STATUS:CONFIRMED
SEQUENCE:0
END:VEVENT
END:VCALENDAR