BEGIN:VCALENDAR
VERSION:2.0
CALSCALE:GREGORIAN
BEGIN:VEVENT
SUMMARY:Workshop: Yoga Fascias
DTSTART;TZID=Europe/Zurich:20250914T090000
DTEND;TZID=Europe/Zurich:20250914T110000
LOCATION:Oron, S.E.E.D centre de bien-être
DESCRIPTION: Un atelier pour explorer les tissus conjonctifs à travers des mouvements lents, des étirements doux, du relâchement myofascial et du yoga restauratif.
STATUS:CONFIRMED
SEQUENCE:0
END:VEVENT
END:VCALENDAR