BEGIN:VCALENDAR
VERSION:2.0
CALSCALE:GREGORIAN
BEGIN:VEVENT
SUMMARY:Hatha/vinyasa yoga
DTSTART;TZID=Europe/Amsterdam:20220906T090000
DTEND;TZID=Europe/Amsterdam:20220906T100000
LOCATION:wezep
DESCRIPTION: 
STATUS:CONFIRMED
SEQUENCE:0
END:VEVENT
END:VCALENDAR