BEGIN:VCALENDAR
VERSION:2.0
CALSCALE:GREGORIAN
BEGIN:VEVENT
SUMMARY:Hatha Joga + Relaksacja (indywidualna lekcja)
DTSTART;TZID=Europe/Amsterdam:20220420T110000
DTEND;TZID=Europe/Amsterdam:20220420T121500
LOCATION:Reigerstraat 35, Tegelen
DESCRIPTION: 
STATUS:CONFIRMED
SEQUENCE:0
END:VEVENT
END:VCALENDAR