BEGIN:VCALENDAR
VERSION:2.0
CALSCALE:GREGORIAN
BEGIN:VEVENT
SUMMARY:Mindful Yin Yoga, level I
DTSTART;TZID=Europe/Brussels:20200922T183000
DTEND;TZID=Europe/Brussels:20200922T200000
LOCATION:Branst
DESCRIPTION: Yin yoga les level I met Nathalie
STATUS:CONFIRMED
SEQUENCE:0
END:VEVENT
END:VCALENDAR