BEGIN:VCALENDAR
VERSION:2.0
CALSCALE:GREGORIAN
BEGIN:VEVENT
SUMMARY:Hatha LET OP: GEANNULEERD
DTSTART;TZID=Europe/Amsterdam:20241212T181500
DTEND;TZID=Europe/Amsterdam:20241212T193000
LOCATION:Communicatielaan 5N
DESCRIPTION: 
STATUS:CONFIRMED
SEQUENCE:0
END:VEVENT
END:VCALENDAR