BEGIN:VCALENDAR
VERSION:2.0
CALSCALE:GREGORIAN
BEGIN:VEVENT
SUMMARY:Flow and Let Go (Subbed by Gayatri)
DTSTART;TZID=America/Denver:20200607T090000
DTEND;TZID=America/Denver:20200607T101500
LOCATION:ShambhavAnanda Yoga Eldorado Online
DESCRIPTION: 
STATUS:CONFIRMED
SEQUENCE:0
END:VEVENT
END:VCALENDAR