BEGIN:VCALENDAR
VERSION:2.0
CALSCALE:GREGORIAN
BEGIN:VEVENT
SUMMARY:Yoga by Donation (Alternating weeks with Azul and Samantha)
DTSTART;TZID=America/Denver:20200619T170000
DTEND;TZID=America/Denver:20200619T181500
LOCATION:ShambhavAnanda Yoga Eldorado Online
DESCRIPTION: 
STATUS:CONFIRMED
SEQUENCE:0
END:VEVENT
END:VCALENDAR