BEGIN:VCALENDAR
VERSION:2.0
CALSCALE:GREGORIAN
BEGIN:VEVENT
SUMMARY:Feel Good Yoga with Shakti
DTSTART;TZID=America/Denver:20210504T103000
DTEND;TZID=America/Denver:20210504T114500
LOCATION:ShambhavAnanda Yoga Shoshoni
DESCRIPTION: 
STATUS:CONFIRMED
SEQUENCE:0
END:VEVENT
END:VCALENDAR