BEGIN:VCALENDAR
VERSION:2.0
CALSCALE:GREGORIAN
BEGIN:VEVENT
SUMMARY:Atelier Yoga restoratif - Un moment de détendre
DTSTART;TZID=Europe/Paris:20260215T153000
DTEND;TZID=Europe/Paris:20260215T173000
LOCATION:Le Martinet
DESCRIPTION: Accessible à toutes et tous, il permet un repos profond et régénérant. Le yoga restauratif apaise le mental, favorise la présence à soi et rétablit l’équilibre physiologique.

Ces deux heures vous invite à reposer sur des postures entièrement soutenues, sans effort, pour une détente complète du corps. Cette pratique apaise le système nerveux et favorise une relaxation profonde, idéale pour restaurer l&#039;énergie et calmer l’esprit.

Ouvert à tous les niveaux
STATUS:CONFIRMED
SEQUENCE:0
END:VEVENT
END:VCALENDAR