BEGIN:VCALENDAR
VERSION:2.0
CALSCALE:GREGORIAN
BEGIN:VEVENT
SUMMARY:Yoga sur chaise
DTSTART;TZID=Europe/Paris:20260428T103000
DTEND;TZID=Europe/Paris:20260428T113000
LOCATION:Le Martinet
DESCRIPTION: Il s&#039;agit d&#039;un cours doux où nous explorons les poses de yoga et les techniques de respiration assis sur une chaise. Le yoga sur chaise convient aux personnes à mobilité réduite, aux problèmes articulaires ou qui se remettent d&#039;une blessure.
STATUS:CONFIRMED
SEQUENCE:0
END:VEVENT
END:VCALENDAR