BEGIN:VCALENDAR
VERSION:2.0
CALSCALE:GREGORIAN
BEGIN:VEVENT
SUMMARY:Slow Hatha at The Skipton Hotel, Skipton
DTSTART;TZID=Europe/London:20260423T103000
DTEND;TZID=Europe/London:20260423T113000
LOCATION:The Skipton Hotel, Keighley Road, Skipton, BD23 2TA
DESCRIPTION: The Skipton Hotel [formally known as The Rendezvous Hotel], Keighley Road, Skipton, BD23 2TA
This class combines the traditional principles of Hatha yoga at a gentle, unhurried pace. Each movement is synchronised with the breath, creating a sense of calm. This practice allows for a deeper exploration of poses, promoting strength, flexibility and relaxation.
Accessible to all levels.
STATUS:CONFIRMED
SEQUENCE:0
END:VEVENT
END:VCALENDAR