BEGIN:VCALENDAR
VERSION:2.0
CALSCALE:GREGORIAN
BEGIN:VEVENT
SUMMARY:Atelier Yoga &amp; Naturo : stimuler son immunité naturellement
DTSTART;TZID=Europe/Paris:20251123T100000
DTEND;TZID=Europe/Paris:20251123T123000
LOCATION:Shanty Studio, 77 rue de l&#039;Odet, Sainte-Marine
DESCRIPTION: Un atelier pour vous donner les clés pour soutenir votre système immunitaire et éviter les petits maux de la saison froide. 🍁 ❄️
Au programme : une pratique de yoga dynamique pour activer votre système lymphatique et digestif et ainsi booster vos défenses immunitaires, puis une pratique de Yin Yoga, plus douce et introspective, en ciblant les méridiens du Poumon et du Gros Intestin (inspiré de la médecine traditionnelle chinoise).
Et pour finir, je vous partagerai des conseils de naturopathie pour renforcer son immunité naturellement : plantes, huiles essentielles et remèdes naturels pour soutenir vos défenses immunitaires tout l&#039;hiver, alimentation adaptée pour fortifier l’organisme et faire le plein de nutriments essentiels.
Cet atelier est l&#039;occasion idéale pour prendre soin de soi avant l’arrivée de l’hiver, se reconnecter à son corps et découvrir des pratiques simples pour traverser la saison froide en pleine forme !

Tarif : 35€ - règlement sur place par chèque ou espèces
⚠️ Les annulations effectuées dans un délai inférieur à 24h sont dues, quelque soit le motif.
STATUS:CONFIRMED
SEQUENCE:0
END:VEVENT
END:VCALENDAR