BEGIN:VCALENDAR
VERSION:2.0
CALSCALE:GREGORIAN
BEGIN:VEVENT
SUMMARY:Slow Flow Friday Sonairte
DTSTART;TZID=Europe/Dublin:20250221T173000
DTEND;TZID=Europe/Dublin:20250221T183000
LOCATION:The Yoga Room
DESCRIPTION: This Slow Flow Vinyasa class emphasizes grounding and mindful movement, focusing on floor-based poses with fewer standing sequences. Through gentle breathwork and intentional transitions, the practice encourages deep relaxation, flexibility, and a sense of stability. Seated, supine, and low-to-the-ground postures help release tension, calm the nervous system, and promote a meditative state. Perfect for those seeking a slower, more introspective flow, the class concludes with an extended Savasana, leaving you feeling nourished, balanced, and restored.
STATUS:CONFIRMED
SEQUENCE:0
END:VEVENT
END:VCALENDAR