BEGIN:VCALENDAR
VERSION:2.0
CALSCALE:GREGORIAN
BEGIN:VEVENT
SUMMARY:Mixed Vinyasa - Balbriggan
DTSTART;TZID=Europe/Dublin:20250416T100000
DTEND;TZID=Europe/Dublin:20250416T110000
LOCATION:Castlelands CC
DESCRIPTION: 
STATUS:CONFIRMED
SEQUENCE:0
END:VEVENT
END:VCALENDAR