BEGIN:VCALENDAR
VERSION:2.0
CALSCALE:GREGORIAN
BEGIN:VEVENT
SUMMARY:No Classes this week. CLASSES RETURN TO NORMAL ON JUNE 11TH
DTSTART;TZID=Europe/Dublin:20250602T161500
DTEND;TZID=Europe/Dublin:20250602T171500
LOCATION:The Studio
DESCRIPTION: 
STATUS:CONFIRMED
SEQUENCE:0
END:VEVENT
END:VCALENDAR