BEGIN:VCALENDAR
VERSION:2.0
CALSCALE:GREGORIAN
BEGIN:VEVENT
SUMMARY:Fiery Vinyasa Flow
DTSTART;TZID=Europe/Dublin:20251125T190000
DTEND;TZID=Europe/Dublin:20251125T200000
LOCATION:Sonairte
DESCRIPTION: 
STATUS:CONFIRMED
SEQUENCE:0
END:VEVENT
END:VCALENDAR