BEGIN:VCALENDAR
VERSION:2.0
CALSCALE:GREGORIAN
BEGIN:VEVENT
SUMMARY:Pranayama Breathwork and Meditation
DTSTART;TZID=Australia/Sydney:20260324T184500
DTEND;TZID=Australia/Sydney:20260324T193000
LOCATION:Shellharbour City Yoga
DESCRIPTION: Learn to harness the power of your breath in this integrative breathwork and meditation experience. We will start with a 20 min breath flow, followed by a relaxing guided visualisation meditation.
STATUS:CONFIRMED
SEQUENCE:0
END:VEVENT
END:VCALENDAR