BEGIN:VCALENDAR
VERSION:2.0
CALSCALE:GREGORIAN
BEGIN:VEVENT
SUMMARY:Yoga Open 90 minutes
DTSTART;TZID=Australia/Sydney:20260410T093000
DTEND;TZID=Australia/Sydney:20260410T110000
LOCATION:Shellharbour City Yoga
DESCRIPTION: A 90 minute class promoting overall wellbeing of mind and body, includes meditation and breathwork. You will be guided through a series of poses as you connect to your breath. This is an open class, beginners are welcome as are more advanced practitioners as options will be offered in the poses so each can find their own level.
STATUS:CONFIRMED
SEQUENCE:0
END:VEVENT
END:VCALENDAR